BEGIN:VCALENDAR
VERSION:2.0
PRODID:-//eventon.com NONSGML v1.0//EN
CALSCALE:GREGORIAN
METHOD:PUBLISH
BEGIN:VEVENT
UID:69e6450c5e9d7
DTSTAMP:20260420T152356Z
DTSTART:20260523T100000Z
DTEND:20260523T123000Z
LOCATION:
SUMMARY:Ukulele Fingerstyle Solos & Duets (Zoom Workshop)
DESCRIPTION:A workshop covering the basics of fingerstyle technique on the 
 ukulele. We will play a variety of exercises to learn the basic skills and 
 also play 3 pieces.We will look at different aspects of playing solos and d
 uets. There will be one piece from my new book as well as[..]\nhttps://www.
 chrismcshanemusic.co.uk/events/ukulele-fingerstyle-solos-duets-zoom-worksho
 p/
URL:https://www.chrismcshanemusic.co.uk/events/ukulele-fingerstyle-solos-duets-zoom-workshop/
END:VEVENT
END:VCALENDAR